BEGIN:VCALENDAR
VERSION:2.0
PRODID:-//Alameda County Reparations Commission - ECPv6.15.20//NONSGML v1.0//EN
CALSCALE:GREGORIAN
METHOD:PUBLISH
X-WR-CALNAME:Alameda County Reparations Commission
X-ORIGINAL-URL:https://reparations.alamedacountyca.gov
X-WR-CALDESC:Events for Alameda County Reparations Commission
REFRESH-INTERVAL;VALUE=DURATION:PT1H
X-Robots-Tag:noindex
X-PUBLISHED-TTL:PT1H
BEGIN:VTIMEZONE
TZID:America/Los_Angeles
BEGIN:DAYLIGHT
TZOFFSETFROM:-0800
TZOFFSETTO:-0700
TZNAME:PDT
DTSTART:20250309T100000
END:DAYLIGHT
BEGIN:STANDARD
TZOFFSETFROM:-0700
TZOFFSETTO:-0800
TZNAME:PST
DTSTART:20251102T090000
END:STANDARD
BEGIN:DAYLIGHT
TZOFFSETFROM:-0800
TZOFFSETTO:-0700
TZNAME:PDT
DTSTART:20260308T100000
END:DAYLIGHT
BEGIN:STANDARD
TZOFFSETFROM:-0700
TZOFFSETTO:-0800
TZNAME:PST
DTSTART:20261101T090000
END:STANDARD
BEGIN:DAYLIGHT
TZOFFSETFROM:-0800
TZOFFSETTO:-0700
TZNAME:PDT
DTSTART:20270314T100000
END:DAYLIGHT
BEGIN:STANDARD
TZOFFSETFROM:-0700
TZOFFSETTO:-0800
TZNAME:PST
DTSTART:20271107T090000
END:STANDARD
END:VTIMEZONE
BEGIN:VEVENT
DTSTART;TZID=America/Los_Angeles:20260321T180000
DTEND;TZID=America/Los_Angeles:20260321T193000
DTSTAMP:20260419T193942
CREATED:20251125T040208Z
LAST-MODIFIED:20260319T191101Z
UID:987508230-1774116000-1774121400@reparations.alamedacountyca.gov
SUMMARY:CANCELED: Virtual Listening Session
DESCRIPTION:Learn: What are reparations?\nLearn: What is the Alameda County Reparation Process\nSpeak: to Reparations Commission members\nShare: Your opinion\, story & vision\nConnect: Be part of shaping future policies & actions
URL:https://reparations.alamedacountyca.gov/event/listening-session-tbd-1/
LOCATION:Zoom
CATEGORIES:Districts 1-6
ATTACH;FMTTYPE=image/png:https://reparations.alamedacountyca.gov/wp-content/uploads/2025/11/ChatGPT-Image-Nov-24-2025-08_11_16-PM.png
END:VEVENT
BEGIN:VEVENT
DTSTART;TZID=America/Los_Angeles:20260328T103000
DTEND;TZID=America/Los_Angeles:20260328T143000
DTSTAMP:20260419T193942
CREATED:20260316T214539Z
LAST-MODIFIED:20260319T191516Z
UID:987509040-1774693800-1774708200@reparations.alamedacountyca.gov
SUMMARY:Community Feedback Session
DESCRIPTION:Join us to give your feedback on draft 1 of the reparations action plan. Please RSVP. Food and drink provided.
URL:https://reparations.alamedacountyca.gov/event/community-feedback-session/
LOCATION:Oakstop\, 2323 Broadway\, Oakland\, CA\, 94612\, United States
CATEGORIES:Districts 1-6
ATTACH;FMTTYPE=image/png:https://reparations.alamedacountyca.gov/wp-content/uploads/2026/03/Community-Feedback-more-to-come.png
END:VEVENT
BEGIN:VEVENT
DTSTART;TZID=America/Los_Angeles:20260411T120000
DTEND;TZID=America/Los_Angeles:20260411T133000
DTSTAMP:20260419T193942
CREATED:20260319T191659Z
LAST-MODIFIED:20260409T205411Z
UID:987509054-1775908800-1775914200@reparations.alamedacountyca.gov
SUMMARY:Virtual Community Feedback Session
DESCRIPTION:Your Voice Is Critical—Now Is the Time to Shape Reparations in Alameda County \nListening Sessions were held across the county since last October … gathering input\, documenting hundreds of voices. Now we have findings and recommendations. \nIt’s time for the big reveal and your help is needed shaping the final recommendations. It’s happening Saturday\, April 11 at the Community Feedback Session (virtual). \nYou join us\, you review the findings\, you weigh in\, then you help determine what makes the cut — before the draft Action Plan is written. \nYour input will directly influence what reparations actually looks like in Alameda County — for real people\, in real communities. You are needed in the session to make sure it’s right. \nIf you attended a Listening Session — you’re needed again. If you didn’t — this is your moment.
URL:https://reparations.alamedacountyca.gov/event/virtual-community-feedback-session-tbd/
LOCATION:Zoom
CATEGORIES:Districts 1-6
ATTACH;FMTTYPE=image/png:https://reparations.alamedacountyca.gov/wp-content/uploads/2026/03/ACRC-Feedback-Session.png
END:VEVENT
BEGIN:VEVENT
DTSTART;TZID=America/Los_Angeles:20260630T120000
DTEND;TZID=America/Los_Angeles:20260630T180000
DTSTAMP:20260419T193942
CREATED:20260407T075724Z
LAST-MODIFIED:20260413T065629Z
UID:987509074-1782820800-1782842400@reparations.alamedacountyca.gov
SUMMARY:Board of Supervisors Meeting
DESCRIPTION:The Alameda County Board of Supervisors Meeting \nTopic: Review Draft Reparations Action Plan
URL:https://reparations.alamedacountyca.gov/event/board-of-supervisors-meeting-tbd/
LOCATION:Alameda County Administration Building\, Board Chambers\, 1221 Oak Street (5th Floor)\, Oakland\, CA\, 94612\, United States
CATEGORIES:Districts 1-6
ATTACH;FMTTYPE=application/pdf:https://reparations.alamedacountyca.gov/wp-content/uploads/2026/04/Feedback-Event-Slide-Deck-FINAL-VERSION-34.pdf
END:VEVENT
BEGIN:VEVENT
DTSTART;TZID=America/Los_Angeles:20261231T003000
DTEND;TZID=America/Los_Angeles:20261231T003000
DTSTAMP:20260419T193942
CREATED:20251222T051705Z
LAST-MODIFIED:20260319T192309Z
UID:987508498-1798677000-1798677000@reparations.alamedacountyca.gov
SUMMARY:Incarcerated Persons Feedback Session TBD
DESCRIPTION:Learn: What are reparations?\nLearn: What is the Alameda County Reparation Process\nSpeak: to Reparations Commission members\nShare: Your opinion\, story & vision\nConnect: Be part of shaping future policies & actions
URL:https://reparations.alamedacountyca.gov/event/listening-session-tbd-1-2/
LOCATION:Santa Rita Jail\, 5325 Broder Blvd\, Dublin\, CA\, 94568\, United States
CATEGORIES:Districts 1-6
ATTACH;FMTTYPE=image/png:https://reparations.alamedacountyca.gov/wp-content/uploads/2025/12/ChatGPT-Image-Dec-21-2025-11_09_52-PM.png
END:VEVENT
END:VCALENDAR