BEGIN:VCALENDAR
VERSION:2.0
PRODID:-//Alameda County Reparations Commission - ECPv6.15.20//NONSGML v1.0//EN
CALSCALE:GREGORIAN
METHOD:PUBLISH
X-WR-CALNAME:Alameda County Reparations Commission
X-ORIGINAL-URL:https://reparations.alamedacountyca.gov
X-WR-CALDESC:Events for Alameda County Reparations Commission
REFRESH-INTERVAL;VALUE=DURATION:PT1H
X-Robots-Tag:noindex
X-PUBLISHED-TTL:PT1H
BEGIN:VTIMEZONE
TZID:America/Los_Angeles
BEGIN:DAYLIGHT
TZOFFSETFROM:-0800
TZOFFSETTO:-0700
TZNAME:PDT
DTSTART:20240310T100000
END:DAYLIGHT
BEGIN:STANDARD
TZOFFSETFROM:-0700
TZOFFSETTO:-0800
TZNAME:PST
DTSTART:20241103T090000
END:STANDARD
BEGIN:DAYLIGHT
TZOFFSETFROM:-0800
TZOFFSETTO:-0700
TZNAME:PDT
DTSTART:20250309T100000
END:DAYLIGHT
BEGIN:STANDARD
TZOFFSETFROM:-0700
TZOFFSETTO:-0800
TZNAME:PST
DTSTART:20251102T090000
END:STANDARD
BEGIN:DAYLIGHT
TZOFFSETFROM:-0800
TZOFFSETTO:-0700
TZNAME:PDT
DTSTART:20260308T100000
END:DAYLIGHT
BEGIN:STANDARD
TZOFFSETFROM:-0700
TZOFFSETTO:-0800
TZNAME:PST
DTSTART:20261101T090000
END:STANDARD
BEGIN:DAYLIGHT
TZOFFSETFROM:-0800
TZOFFSETTO:-0700
TZNAME:PDT
DTSTART:20270314T100000
END:DAYLIGHT
BEGIN:STANDARD
TZOFFSETFROM:-0700
TZOFFSETTO:-0800
TZNAME:PST
DTSTART:20271107T090000
END:STANDARD
END:VTIMEZONE
BEGIN:VEVENT
DTSTART;TZID=America/Los_Angeles:20260228T150000
DTEND;TZID=America/Los_Angeles:20260228T170000
DTSTAMP:20260425T100421
CREATED:20260205T125559Z
LAST-MODIFIED:20260214T061021Z
UID:987508829-1772290800-1772298000@reparations.alamedacountyca.gov
SUMMARY:Kingmakers of Oakland: Black Boys and Young Men Listening Session
DESCRIPTION:Learn: What are reparations?\nLearn: What is the Alameda County Reparation Process\nSpeak: to Reparations Commission members\nShare: Your opinion\, story & vision\nConnect: Be part of shaping future policies & actions
URL:https://reparations.alamedacountyca.gov/event/kingmakers-of-oakland-listening-session/
LOCATION:MetWest High School\, 314 E 10th St\, Oakland\, CA\, 94606\, United States
CATEGORIES:District 3
ATTACH;FMTTYPE=image/png:https://reparations.alamedacountyca.gov/wp-content/uploads/2026/02/ChatGPT-Image-Feb-5-2026-04_55_05-AM.png
END:VEVENT
BEGIN:VEVENT
DTSTART;TZID=America/Los_Angeles:20260220T170000
DTEND;TZID=America/Los_Angeles:20260220T190000
DTSTAMP:20260425T100421
CREATED:20260205T122444Z
LAST-MODIFIED:20260214T053403Z
UID:987508822-1771606800-1771614000@reparations.alamedacountyca.gov
SUMMARY:BCZ: Art & Soul Fridays Listening Session
DESCRIPTION:Learn: What are reparations?\nLearn: What is the Alameda County Reparation Process\nSpeak: to Reparations Commission members\nShare: Your opinion\, story & vision\nConnect: Be part of shaping future policies & actions
URL:https://reparations.alamedacountyca.gov/event/bcz-art-soul-fridays-listening-session/
LOCATION:Sankofa Sanctuary\, 2750 73rd Avenue\, Oakland\, United States
CATEGORIES:District 3
ATTACH;FMTTYPE=image/png:https://reparations.alamedacountyca.gov/wp-content/uploads/2026/02/ChatGPT-Image-Feb-5-2026-04_27_37-AM.png
END:VEVENT
BEGIN:VEVENT
DTSTART;TZID=America/Los_Angeles:20251206T120000
DTEND;TZID=America/Los_Angeles:20251206T140000
DTSTAMP:20260425T100421
CREATED:20251005T080937Z
LAST-MODIFIED:20260319T193143Z
UID:1594-1765022400-1765029600@reparations.alamedacountyca.gov
SUMMARY:District 3 Listening Session
DESCRIPTION:Learn: What are reparations?\nLearn: What is the Alameda County Reparation Process\nSpeak: to Reparations Commission members\nShare: Your opinion\, story & vision\nConnect: Be part of shaping future policies & actions
URL:https://reparations.alamedacountyca.gov/event/district-3-listening-session/
LOCATION:San Leandro Public Library\, 300 Estudillo Avenue\, San Leandro\, CA\, 94577\, United States
CATEGORIES:District 3
ATTACH;FMTTYPE=image/png:https://reparations.alamedacountyca.gov/wp-content/uploads/2025/10/ChatGPT-Image-Oct-5-2025-08_07_52-PM.png
END:VEVENT
END:VCALENDAR